BEGIN:VCALENDAR
VERSION:2.0
PRODID:-//SANQC - ECPv4.9.14//NONSGML v1.0//EN
CALSCALE:GREGORIAN
METHOD:PUBLISH
X-WR-CALNAME:SANQC
X-ORIGINAL-URL:https://www.sanqc.ca
X-WR-CALDESC:Events for SANQC
BEGIN:VTIMEZONE
TZID:America/Edmonton
BEGIN:DAYLIGHT
TZOFFSETFROM:-0700
TZOFFSETTO:-0600
TZNAME:MDT
DTSTART:20180311T090000
END:DAYLIGHT
BEGIN:STANDARD
TZOFFSETFROM:-0600
TZOFFSETTO:-0700
TZNAME:MST
DTSTART:20181104T080000
END:STANDARD
END:VTIMEZONE
BEGIN:VEVENT
DTSTART;TZID=America/Edmonton:20181127T114500
DTEND;TZID=America/Edmonton:20181127T130000
DTSTAMP:20260424T015711
CREATED:20181020T000229Z
LAST-MODIFIED:20181026T224132Z
UID:3062-1543319100-1543323600@www.sanqc.ca
SUMMARY:Lunch & Learn • Financial Management
DESCRIPTION:This session will present budgeting tips and techniques for planning for holiday spending on a student budget. \nAll registered attendees will be given free lunch and be entered to win a $100 gift card. \nThere are a limited number of spots in each session. Register below to ensure your spot. \n
URL:https://www.sanqc.ca/event/lunch-learn-%e2%80%a2-financial-management/
LOCATION:SANQC Multi-Purpose Space (1-096)\, 10215 108 St NW\, Edmonton\, Alberta\, T5J 1L6\, Canada
CATEGORIES:Mental Health Events
ATTACH;FMTTYPE=image/jpeg:/wp-content/uploads/2018/10/WhatsApp-Image-2018-09-26-at-4.54.28-PM.jpeg
END:VEVENT
END:VCALENDAR