BEGIN:VCALENDAR
VERSION:2.0
PRODID:-//SANQC - ECPv4.9.14//NONSGML v1.0//EN
CALSCALE:GREGORIAN
METHOD:PUBLISH
X-WR-CALNAME:SANQC
X-ORIGINAL-URL:https://www.sanqc.ca
X-WR-CALDESC:Events for SANQC
BEGIN:VTIMEZONE
TZID:America/Edmonton
BEGIN:DAYLIGHT
TZOFFSETFROM:-0700
TZOFFSETTO:-0600
TZNAME:MDT
DTSTART:20190310T090000
END:DAYLIGHT
BEGIN:STANDARD
TZOFFSETFROM:-0600
TZOFFSETTO:-0700
TZNAME:MST
DTSTART:20191103T080000
END:STANDARD
END:VTIMEZONE
BEGIN:VEVENT
DTSTART;TZID=America/Edmonton:20191119T111500
DTEND;TZID=America/Edmonton:20191119T124500
DTSTAMP:20260424T050236
CREATED:20191030T164249Z
LAST-MODIFIED:20191118T223542Z
UID:4353-1574162100-1574167500@www.sanqc.ca
SUMMARY:Lunch & Learn • Office of Student Judicial Affairs
DESCRIPTION:Join the SANQC team for a presentation from the Office of Student Judicial Affairs and FREE lunch! \nYou have rights. We at the OSJA support student rights\, and help students navigate situations they believe are unfair. Come to our session to learn about these rights and to learn about what the OSJA does to support student success. \nAll participants will receive a free lunch. Pre-registered attendees will be entered to win a $50 gift card! \nSession A: 11:15 – 11:45 am • Session B: 12:15 – 12:45 pm \n
URL:https://www.sanqc.ca/event/lunch-learn-%e2%80%a2-office-of-student-judicial-affairs/
LOCATION:SANQC Multi-Purpose Space (1-096)\, 10215 108 St NW\, Edmonton\, Alberta\, T5J 1L6\, Canada
CATEGORIES:Mental Health Events
ATTACH;FMTTYPE=image/jpeg:/wp-content/uploads/2019/10/IMG_4015.jpg
END:VEVENT
END:VCALENDAR