BEGIN:VCALENDAR
VERSION:2.0
PRODID:-//SANQC - ECPv4.9.14//NONSGML v1.0//EN
CALSCALE:GREGORIAN
METHOD:PUBLISH
X-WR-CALNAME:SANQC
X-ORIGINAL-URL:https://www.sanqc.ca
X-WR-CALDESC:Events for SANQC
BEGIN:VTIMEZONE
TZID:America/Edmonton
BEGIN:DAYLIGHT
TZOFFSETFROM:-0700
TZOFFSETTO:-0600
TZNAME:MDT
DTSTART:20180311T090000
END:DAYLIGHT
BEGIN:STANDARD
TZOFFSETFROM:-0600
TZOFFSETTO:-0700
TZNAME:MST
DTSTART:20181104T080000
END:STANDARD
END:VTIMEZONE
BEGIN:VEVENT
DTSTART;TZID=America/Edmonton:20181016T110000
DTEND;TZID=America/Edmonton:20181016T123000
DTSTAMP:20260424T053431
CREATED:20180927T163914Z
LAST-MODIFIED:20181016T195555Z
UID:2882-1539687600-1539693000@www.sanqc.ca
SUMMARY:Lunch & Learn • Recreation
DESCRIPTION:This session will teach you about many different opportunities for recreation within Edmonton. There will be information about free and subsidized programs for students. You will also receive a free pass to United by Wellness and information about our free open house gym days and free fitness classes. \nAll registered attendees will be given free lunch and be entered to win a $100 gift card. \nThere are a limited number of spots in each session. Register below to ensure your spot. \n
URL:https://www.sanqc.ca/event/lunch-learn-%e2%80%a2-recreation/
LOCATION:SANQC Multi-Purpose Space (1-096)\, 10215 108 St NW\, Edmonton\, Alberta\, T5J 1L6\, Canada
ATTACH;FMTTYPE=image/jpeg:/wp-content/uploads/2018/09/LL.jpeg
END:VEVENT
END:VCALENDAR