BEGIN:VCALENDAR
VERSION:2.0
PRODID:-//SANQC - ECPv4.9.14//NONSGML v1.0//EN
CALSCALE:GREGORIAN
METHOD:PUBLISH
X-WR-CALNAME:SANQC
X-ORIGINAL-URL:https://www.sanqc.ca
X-WR-CALDESC:Events for SANQC
BEGIN:VTIMEZONE
TZID:America/Edmonton
BEGIN:DAYLIGHT
TZOFFSETFROM:-0700
TZOFFSETTO:-0600
TZNAME:MDT
DTSTART:20190310T090000
END:DAYLIGHT
BEGIN:STANDARD
TZOFFSETFROM:-0600
TZOFFSETTO:-0700
TZNAME:MST
DTSTART:20191103T080000
END:STANDARD
END:VTIMEZONE
BEGIN:VEVENT
DTSTART;TZID=America/Edmonton:20190129T120000
DTEND;TZID=America/Edmonton:20190129T133000
DTSTAMP:20260424T072246
CREATED:20181218T222642Z
LAST-MODIFIED:20181219T215721Z
UID:3390-1548763200-1548768600@www.sanqc.ca
SUMMARY:Lunch & Learn • Scholarships\, Bursaries & Awards
DESCRIPTION:Join us for a 30 minute Lunch & Learn session geared around Scholarships\, Bursaries\, & Awards at NorQuest College. \nAt this short presentation you will learn about the scholarships that are available to you specifically\, and the key tips to a successful application. \nAll registered participants will receive free lunch and be entered to win a $100 Gift Card! \n
URL:https://www.sanqc.ca/event/lunch-learn-%e2%80%a2-scholarships-bursaries-awards/
LOCATION:SANQC Multi-Purpose Space (1-096)\, 10215 108 St NW\, Edmonton\, Alberta\, T5J 1L6\, Canada
CATEGORIES:Mental Health Events
ATTACH;FMTTYPE=image/jpeg:/wp-content/uploads/2018/12/WhatsApp-Image-2018-09-26-at-4.54.17-PM.jpeg
END:VEVENT
END:VCALENDAR