BEGIN:VCALENDAR
VERSION:2.0
PRODID:-//SANQC - ECPv4.9.14//NONSGML v1.0//EN
CALSCALE:GREGORIAN
METHOD:PUBLISH
X-WR-CALNAME:SANQC
X-ORIGINAL-URL:https://www.sanqc.ca
X-WR-CALDESC:Events for SANQC
BEGIN:VTIMEZONE
TZID:America/Edmonton
BEGIN:DAYLIGHT
TZOFFSETFROM:-0700
TZOFFSETTO:-0600
TZNAME:MDT
DTSTART:20190310T090000
END:DAYLIGHT
BEGIN:STANDARD
TZOFFSETFROM:-0600
TZOFFSETTO:-0700
TZNAME:MST
DTSTART:20191103T080000
END:STANDARD
END:VTIMEZONE
BEGIN:VEVENT
DTSTART;TZID=America/Edmonton:20190925T111500
DTEND;TZID=America/Edmonton:20190925T124500
DTSTAMP:20260424T091236
CREATED:20190830T142523Z
LAST-MODIFIED:20190918T222239Z
UID:4036-1569410100-1569415500@www.sanqc.ca
SUMMARY:Lunch & Learn • Scholarships
DESCRIPTION:Join us for a 30 minute Lunch & Learn session geared around Scholarships\, Bursaries & Awards at NorQuest College. \nAt this short presentation you will learn about the scholarships that are available to you specifically\, and the key tips to a successful application. \nAll participants will receive a free lunch. All pre-registered attendees will be entered to win a $50 gift card! \n
URL:https://www.sanqc.ca/event/lunch-learn-%e2%80%a2-scholarships/
LOCATION:SANQC Multi-Purpose Space (1-096)\, 10215 108 St NW\, Edmonton\, Alberta\, T5J 1L6\, Canada
ATTACH;FMTTYPE=image/jpeg:/wp-content/uploads/2018/09/LL.jpeg
END:VEVENT
END:VCALENDAR