BEGIN:VCALENDAR
VERSION:2.0
PRODID:-//SANQC - ECPv4.9.14//NONSGML v1.0//EN
CALSCALE:GREGORIAN
METHOD:PUBLISH
X-WR-CALNAME:SANQC
X-ORIGINAL-URL:https://www.sanqc.ca
X-WR-CALDESC:Events for SANQC
BEGIN:VTIMEZONE
TZID:America/Edmonton
BEGIN:DAYLIGHT
TZOFFSETFROM:-0700
TZOFFSETTO:-0600
TZNAME:MDT
DTSTART:20190310T090000
END:DAYLIGHT
BEGIN:STANDARD
TZOFFSETFROM:-0600
TZOFFSETTO:-0700
TZNAME:MST
DTSTART:20191103T080000
END:STANDARD
END:VTIMEZONE
BEGIN:VEVENT
DTSTART;TZID=America/Edmonton:20190910T111500
DTEND;TZID=America/Edmonton:20190910T124500
DTSTAMP:20260424T045041
CREATED:20190830T142546Z
LAST-MODIFIED:20190909T223919Z
UID:4015-1568114100-1568119500@www.sanqc.ca
SUMMARY:Lunch & Learn • Students' Council Elections
DESCRIPTION:Join us for a 30 minute Lunch & Learn session focused on the Students’ Council Election. \nLearn about how the election works\, why it’s important to every student and if you’re interested\, how you can become a Students’ Council representative! \nAll participants will receive a free lunch. All pre-registered attendees will be entered to win a $50 gift card! \n
URL:https://www.sanqc.ca/event/lunch-learn-%e2%80%a2-students-council-elections/
LOCATION:SANQC Multi-Purpose Space (1-096)\, 10215 108 St NW\, Edmonton\, Alberta\, T5J 1L6\, Canada
CATEGORIES:Students' Council
ATTACH;FMTTYPE=image/jpeg:/wp-content/uploads/2019/05/IMG_9689.jpg
END:VEVENT
END:VCALENDAR