BEGIN:VCALENDAR
VERSION:2.0
PRODID:-//SANQC - ECPv4.9.14//NONSGML v1.0//EN
CALSCALE:GREGORIAN
METHOD:PUBLISH
X-WR-CALNAME:SANQC
X-ORIGINAL-URL:https://www.sanqc.ca
X-WR-CALDESC:Events for SANQC
BEGIN:VTIMEZONE
TZID:America/Edmonton
BEGIN:DAYLIGHT
TZOFFSETFROM:-0700
TZOFFSETTO:-0600
TZNAME:MDT
DTSTART:20170312T090000
END:DAYLIGHT
BEGIN:STANDARD
TZOFFSETFROM:-0600
TZOFFSETTO:-0700
TZNAME:MST
DTSTART:20171105T080000
END:STANDARD
END:VTIMEZONE
BEGIN:VEVENT
DTSTART;TZID=America/Edmonton:20171121T113000
DTEND;TZID=America/Edmonton:20171121T130000
DTSTAMP:20260424T052233
CREATED:20171102T145601Z
LAST-MODIFIED:20171102T145601Z
UID:1341-1511263800-1511269200@www.sanqc.ca
SUMMARY:Lunch & Learn: Budget Management
DESCRIPTION:Join SANQC for a 30 minute session on budget management. \nRegistration is required\, sign up in the SA Office (1-114) or online below. Lunch is provided for all participants. \nSession A: 11:30 AM – 12 PM\nSession B: 12 – 12:30 PM\nSession C: 12:30 – 1 PM \n
URL:https://www.sanqc.ca/event/lunch-learn-budget-management/
LOCATION:SANQC Multi-Purpose Space (1-096)\, 10215 108 St NW\, Edmonton\, Alberta\, T5J 1L6\, Canada
CATEGORIES:Mental Health Events
END:VEVENT
END:VCALENDAR