BEGIN:VCALENDAR
VERSION:2.0
PRODID:-//SANQC - ECPv4.9.14//NONSGML v1.0//EN
CALSCALE:GREGORIAN
METHOD:PUBLISH
X-WR-CALNAME:SANQC
X-ORIGINAL-URL:https://www.sanqc.ca
X-WR-CALDESC:Events for SANQC
BEGIN:VTIMEZONE
TZID:America/Edmonton
BEGIN:DAYLIGHT
TZOFFSETFROM:-0700
TZOFFSETTO:-0600
TZNAME:MDT
DTSTART:20180311T090000
END:DAYLIGHT
BEGIN:STANDARD
TZOFFSETFROM:-0600
TZOFFSETTO:-0700
TZNAME:MST
DTSTART:20181104T080000
END:STANDARD
END:VTIMEZONE
BEGIN:VEVENT
DTSTART;TZID=America/Edmonton:20180122T113000
DTEND;TZID=America/Edmonton:20180122T130000
DTSTAMP:20260425T004247
CREATED:20171212T220544Z
LAST-MODIFIED:20171220T161614Z
UID:1634-1516620600-1516626000@www.sanqc.ca
SUMMARY:Lunch & Learn: Scholarships & Awards
DESCRIPTION:Join us for a 30 minute session on the current scholarships\, bursaries and awards available for the Winter Term. Learn about the process for applying and how to make your application competitive. \nRegister online or in the SANQC Office (1-114). Limited drop in space is available. Free food and a chance to win a $100 gift card for all those who attend. \nSession A: 11:30 am – 12 pm\nSession B: 12 – 12:30 pm\nSession C: 12:30 – 1 pm \n
URL:https://www.sanqc.ca/event/lunch-learn-scholarships-awards-2/
CATEGORIES:Mental Health Events
ATTACH;FMTTYPE=image/jpeg:/wp-content/uploads/2017/12/LL.jpg
END:VEVENT
END:VCALENDAR