BEGIN:VCALENDAR
VERSION:2.0
PRODID:-//SANQC - ECPv4.9.14//NONSGML v1.0//EN
CALSCALE:GREGORIAN
METHOD:PUBLISH
X-WR-CALNAME:SANQC
X-ORIGINAL-URL:https://www.sanqc.ca
X-WR-CALDESC:Events for SANQC
BEGIN:VTIMEZONE
TZID:America/Edmonton
BEGIN:DAYLIGHT
TZOFFSETFROM:-0700
TZOFFSETTO:-0600
TZNAME:MDT
DTSTART:20200308T090000
END:DAYLIGHT
BEGIN:STANDARD
TZOFFSETFROM:-0600
TZOFFSETTO:-0700
TZNAME:MST
DTSTART:20201101T080000
END:STANDARD
END:VTIMEZONE
BEGIN:VEVENT
DTSTART;TZID=America/Edmonton:20200602T123000
DTEND;TZID=America/Edmonton:20200602T140000
DTSTAMP:20260424T085329
CREATED:20200513T194746Z
LAST-MODIFIED:20200528T200715Z
UID:5120-1591101000-1591106400@www.sanqc.ca
SUMMARY:Lunch & Learn • Office of Student Judicial Affairs
DESCRIPTION:Join the SANQC team for a presentation from the Office of Student Judicial Affairs. Students will learn about the process of academic grade appealing\, the difference between academic and nonacademic misconduct and student complaint procedure. \nWe want to empower you to know your rights and responsibilities as a student. \nSession A: 12:30 – 1 pm\, join the Blackboard session here. \nSession B: 1:30 – 2 pm\, join the Blackboard session here. \nCurrent Spring/Summer NorQuest students who attend a session will be entered to win a $25 gift card. \n
URL:https://www.sanqc.ca/event/lunchandlearnosja/
LOCATION:Blackboard
CATEGORIES:Mental Health Events
ATTACH;FMTTYPE=image/jpeg:/wp-content/uploads/2020/05/LLOSJA.jpeg
END:VEVENT
END:VCALENDAR