BEGIN:VCALENDAR
VERSION:2.0
PRODID:-//SANQC - ECPv4.9.14//NONSGML v1.0//EN
CALSCALE:GREGORIAN
METHOD:PUBLISH
X-WR-CALNAME:SANQC
X-ORIGINAL-URL:https://www.sanqc.ca
X-WR-CALDESC:Events for SANQC
BEGIN:VTIMEZONE
TZID:America/Edmonton
BEGIN:DAYLIGHT
TZOFFSETFROM:-0700
TZOFFSETTO:-0600
TZNAME:MDT
DTSTART:20240310T090000
END:DAYLIGHT
BEGIN:STANDARD
TZOFFSETFROM:-0600
TZOFFSETTO:-0700
TZNAME:MST
DTSTART:20241103T080000
END:STANDARD
END:VTIMEZONE
BEGIN:VEVENT
DTSTART;TZID=America/Edmonton:20240314T113000
DTEND;TZID=America/Edmonton:20240314T130000
DTSTAMP:20260423T235159
CREATED:20231204T203209Z
LAST-MODIFIED:20231218T202628Z
UID:8843-1710415800-1710421200@www.sanqc.ca
SUMMARY:Taste of Diversity
DESCRIPTION:Join your Students’ Association for an amazing multicultural food showcase! We’ll have food from a variety of cultures to amaze your eyes and your appetite! \nYou’ll also have the chance to share suggestions for foods that you’d like to see at future versions of this event on our food board! \nMust be a current NorQuest student to participate. First come\, first served\, while quantities last. \n  \n
URL:https://www.sanqc.ca/event/mar14taste/
LOCATION:Atrium (1-001)\, 10215 108 St NW\, Edmonton\, Alberta\, T5J 1L6\, Canada
CATEGORIES:Mental Health Events,Social Events
ATTACH;FMTTYPE=image/png:/wp-content/uploads/2023/12/Taste-of-Diversity.png
END:VEVENT
END:VCALENDAR