BEGIN:VCALENDAR
VERSION:2.0
PRODID:-//SANQC - ECPv4.9.14//NONSGML v1.0//EN
CALSCALE:GREGORIAN
METHOD:PUBLISH
X-WR-CALNAME:SANQC
X-ORIGINAL-URL:https://www.sanqc.ca
X-WR-CALDESC:Events for SANQC
BEGIN:VTIMEZONE
TZID:America/Edmonton
BEGIN:DAYLIGHT
TZOFFSETFROM:-0700
TZOFFSETTO:-0600
TZNAME:MDT
DTSTART:20220313T090000
END:DAYLIGHT
BEGIN:STANDARD
TZOFFSETFROM:-0600
TZOFFSETTO:-0700
TZNAME:MST
DTSTART:20221106T080000
END:STANDARD
END:VTIMEZONE
BEGIN:VEVENT
DTSTART;TZID=America/Edmonton:20220317T120000
DTEND;TZID=America/Edmonton:20220317T140000
DTSTAMP:20260424T054614
CREATED:20220308T222238Z
LAST-MODIFIED:20220308T222738Z
UID:7441-1647518400-1647525600@www.sanqc.ca
SUMMARY:Games Day • Jackbox Party
DESCRIPTION:Meet new friends and join us for Jackbox Party! We’ll play some fun Jackbox games everyone will enjoy. Bring your NorQuest friends and find out who will leave with bragging rights! \nFibbage 3: Fib-til-you-win. Here’s your chance to fool your friends with clever lies. The more creative you are\, the easier it’ll be to trick your opponents into believing your answer. \nSurvive the Internet: Answer an opinion based question\, then your answer gets passed on to another player at random for them to add a funny twist to it! Then everybody votes for their favorite answer where you can earn bonus points! \nBracketeering: Make smart bets on stupid arguments. Once you submit your answers the question gets changed making your answers even funnier! \nCivic Doodle: Get a chance to beautify the town of Doodle Valley with your creative drawing skills. Players vote for what they like best\, then the next artists add to the design! \nIf you don’t know how to play\, we’ll help you learn how. These games are super quick and easy to learn. You’ll need a smart phone\, tablet\, or laptop to play. Winter 2022 NorQuest students who join have a chance to win our games prize basket that includes a Codenames board game and Pictionary Air! \nJoin the fun on Blackboard here! \n  \n
URL:https://www.sanqc.ca/event/mar17jackbox/
LOCATION:Blackboard
CATEGORIES:Social Events
ATTACH;FMTTYPE=image/png:/wp-content/uploads/2022/03/mar17jackbox.png
END:VEVENT
END:VCALENDAR