BEGIN:VCALENDAR
VERSION:2.0
PRODID:-//SANQC - ECPv4.9.14//NONSGML v1.0//EN
CALSCALE:GREGORIAN
METHOD:PUBLISH
X-WR-CALNAME:SANQC
X-ORIGINAL-URL:https://www.sanqc.ca
X-WR-CALDESC:Events for SANQC
BEGIN:VTIMEZONE
TZID:America/Edmonton
BEGIN:DAYLIGHT
TZOFFSETFROM:-0700
TZOFFSETTO:-0600
TZNAME:MDT
DTSTART:20250309T090000
END:DAYLIGHT
BEGIN:STANDARD
TZOFFSETFROM:-0600
TZOFFSETTO:-0700
TZNAME:MST
DTSTART:20251102T080000
END:STANDARD
END:VTIMEZONE
BEGIN:VEVENT
DTSTART;TZID=America/Edmonton:20250325T110000
DTEND;TZID=America/Edmonton:20250325T130000
DTSTAMP:20260423T232855
CREATED:20240821T213456Z
LAST-MODIFIED:20250114T152641Z
UID:9225-1742900400-1742907600@www.sanqc.ca
SUMMARY:Skribbl
DESCRIPTION:Dive into creativity and competition with Skribbl! \nWhether you’re an artist or a guesser\, Skribbl.io guarantees endless fun and friendly competition. Unleash your imagination\, connect with friends\, and enjoy the fun. \nNo experience needed! It’s quick and simple to learn and we’ll be there to make sure you know how to play. \n2025 Winter term NorQuest students who attend will have a chance to win one of two $50 gift cards! \nJoin the fun on Blackboard HERE. \n  \n
URL:https://www.sanqc.ca/event/mar25skribbl/
LOCATION:Blackboard
CATEGORIES:Social Events,Virtual Events
ATTACH;FMTTYPE=image/png:/wp-content/uploads/2024/08/Skribbl.png
END:VEVENT
END:VCALENDAR