BEGIN:VCALENDAR
VERSION:2.0
PRODID:-//SANQC - ECPv4.9.14//NONSGML v1.0//EN
CALSCALE:GREGORIAN
METHOD:PUBLISH
X-WR-CALNAME:SANQC
X-ORIGINAL-URL:https://www.sanqc.ca
X-WR-CALDESC:Events for SANQC
BEGIN:VTIMEZONE
TZID:America/Edmonton
BEGIN:DAYLIGHT
TZOFFSETFROM:-0700
TZOFFSETTO:-0600
TZNAME:MDT
DTSTART:20250309T090000
END:DAYLIGHT
BEGIN:STANDARD
TZOFFSETFROM:-0600
TZOFFSETTO:-0700
TZNAME:MST
DTSTART:20251102T080000
END:STANDARD
END:VTIMEZONE
BEGIN:VEVENT
DTSTART;TZID=America/Edmonton:20250327T100000
DTEND;TZID=America/Edmonton:20250327T150000
DTSTAMP:20260423T221530
CREATED:20240821T213653Z
LAST-MODIFIED:20250114T152646Z
UID:9227-1743069600-1743087600@www.sanqc.ca
SUMMARY:Oxygen Bar
DESCRIPTION:Join your Students’ Association for a relaxing time at our Oxygen Bar. Explore a variety of great scents and take a break from your school work. \nWe’ll also have a variety of board games available\, so come and join us for some fun! \n  \n
URL:https://www.sanqc.ca/event/mar27oxygenbar/
LOCATION:Atrium (1-001)\, 10215 108 St NW\, Edmonton\, Alberta\, T5J 1L6\, Canada
CATEGORIES:Mental Health Events
ATTACH;FMTTYPE=image/png:/wp-content/uploads/2024/08/Oxygen-Bar-1.png
END:VEVENT
END:VCALENDAR