BEGIN:VCALENDAR
VERSION:2.0
PRODID:-//SANQC - ECPv4.9.14//NONSGML v1.0//EN
CALSCALE:GREGORIAN
METHOD:PUBLISH
X-WR-CALNAME:SANQC
X-ORIGINAL-URL:https://www.sanqc.ca
X-WR-CALDESC:Events for SANQC
BEGIN:VTIMEZONE
TZID:America/Edmonton
BEGIN:DAYLIGHT
TZOFFSETFROM:-0700
TZOFFSETTO:-0600
TZNAME:MDT
DTSTART:20230312T090000
END:DAYLIGHT
BEGIN:STANDARD
TZOFFSETFROM:-0600
TZOFFSETTO:-0700
TZNAME:MST
DTSTART:20231105T080000
END:STANDARD
END:VTIMEZONE
BEGIN:VEVENT
DTSTART;TZID=America/Edmonton:20230330T100000
DTEND;TZID=America/Edmonton:20230330T150000
DTSTAMP:20260424T040416
CREATED:20230216T181920Z
LAST-MODIFIED:20230306T223806Z
UID:8191-1680170400-1680188400@www.sanqc.ca
SUMMARY:Oxygen Bar
DESCRIPTION:Join your Students’ Association for a relaxing time at our Oxygen Bar. Explore a variety of great scents and take a break from your school work. \nWe’ll also have a variety of board games available while you wait so come and join us for some fun! \n  \n
URL:https://www.sanqc.ca/event/mar30oxygen/
LOCATION:Atrium (1-001)\, 10215 108 St NW\, Edmonton\, Alberta\, T5J 1L6\, Canada
CATEGORIES:Mental Health Events
ATTACH;FMTTYPE=image/png:/wp-content/uploads/2023/02/Oxygen-Bar-March-20.png
END:VEVENT
END:VCALENDAR