BEGIN:VCALENDAR
VERSION:2.0
PRODID:-//SANQC - ECPv4.9.14//NONSGML v1.0//EN
CALSCALE:GREGORIAN
METHOD:PUBLISH
X-WR-CALNAME:SANQC
X-ORIGINAL-URL:https://www.sanqc.ca
X-WR-CALDESC:Events for SANQC
BEGIN:VTIMEZONE
TZID:America/Edmonton
BEGIN:DAYLIGHT
TZOFFSETFROM:-0700
TZOFFSETTO:-0600
TZNAME:MDT
DTSTART:20230312T090000
END:DAYLIGHT
BEGIN:STANDARD
TZOFFSETFROM:-0600
TZOFFSETTO:-0700
TZNAME:MST
DTSTART:20231105T080000
END:STANDARD
END:VTIMEZONE
BEGIN:VEVENT
DTSTART;TZID=America/Edmonton:20230523T100000
DTEND;TZID=America/Edmonton:20230523T120000
DTSTAMP:20260424T015323
CREATED:20230503T145807Z
LAST-MODIFIED:20230510T173550Z
UID:8354-1684836000-1684843200@www.sanqc.ca
SUMMARY:Week of Welcome • Students' Council Fest
DESCRIPTION:Your Students’ Council is kicking off Week of Welcome and they want to connect with YOU! \nJoin them for some yummy cupcakes\, spin our giving wheel to get some prizes and SANQC swag items\, and have loads of FUN! \nStop by in Imagine Hall to meet your Students’ Council\, get to know about who your Students’ Association is\, what we do and how we are here for you. \nBe one of the first 150 students to join us and you’ll also get a fun welcome kit! First come\, first served\, while supplies last. \n  \n
URL:https://www.sanqc.ca/event/may23scfest/
LOCATION:Imagine Hall\, 10215 108 St NW\, Edmonton\, AB\, T5J 1L6\, Canada
CATEGORIES:Social Events,Students' Council
ATTACH;FMTTYPE=image/jpeg:/wp-content/uploads/2023/05/Students-Council-Fest.jpg
END:VEVENT
END:VCALENDAR