BEGIN:VCALENDAR
VERSION:2.0
PRODID:-//SANQC - ECPv4.9.14//NONSGML v1.0//EN
CALSCALE:GREGORIAN
METHOD:PUBLISH
X-WR-CALNAME:SANQC
X-ORIGINAL-URL:https://www.sanqc.ca
X-WR-CALDESC:Events for SANQC
BEGIN:VTIMEZONE
TZID:America/Edmonton
BEGIN:DAYLIGHT
TZOFFSETFROM:-0700
TZOFFSETTO:-0600
TZNAME:MDT
DTSTART:20180311T090000
END:DAYLIGHT
BEGIN:STANDARD
TZOFFSETFROM:-0600
TZOFFSETTO:-0700
TZNAME:MST
DTSTART:20181104T080000
END:STANDARD
END:VTIMEZONE
BEGIN:VEVENT
DTSTART;TZID=America/Edmonton:20180207T100000
DTEND;TZID=America/Edmonton:20180207T140000
DTSTAMP:20260424T001511
CREATED:20171213T193712Z
LAST-MODIFIED:20171213T193724Z
UID:1696-1517997600-1518012000@www.sanqc.ca
SUMMARY:Mental Health Expo
DESCRIPTION:Help SANQC break stigma. Find out about on-campus mental health services as well as information and resources from community organizations. \nFill out a short survey for a prize draw and participate in some activities for giveaways. \n
URL:https://www.sanqc.ca/event/mental-health-expo-2/
LOCATION:SANQC Multi-Purpose Space (1-096)\, 10215 108 St NW\, Edmonton\, Alberta\, T5J 1L6\, Canada
CATEGORIES:Mental Health Events
ATTACH;FMTTYPE=image/jpeg:/wp-content/uploads/2017/12/IMG_4117.jpg
END:VEVENT
END:VCALENDAR