BEGIN:VCALENDAR
VERSION:2.0
PRODID:-//SANQC - ECPv4.9.14//NONSGML v1.0//EN
CALSCALE:GREGORIAN
METHOD:PUBLISH
X-WR-CALNAME:SANQC
X-ORIGINAL-URL:https://www.sanqc.ca
X-WR-CALDESC:Events for SANQC
BEGIN:VTIMEZONE
TZID:America/Edmonton
BEGIN:DAYLIGHT
TZOFFSETFROM:-0700
TZOFFSETTO:-0600
TZNAME:MDT
DTSTART:20170312T090000
END:DAYLIGHT
BEGIN:STANDARD
TZOFFSETFROM:-0600
TZOFFSETTO:-0700
TZNAME:MST
DTSTART:20171105T080000
END:STANDARD
END:VTIMEZONE
BEGIN:VEVENT
DTSTART;TZID=America/Edmonton:20171012T110000
DTEND;TZID=America/Edmonton:20171012T150000
DTSTAMP:20260424T025113
CREATED:20170811T202429Z
LAST-MODIFIED:20171218T210903Z
UID:582-1507806000-1507820400@www.sanqc.ca
SUMMARY:Mental Health Expo
DESCRIPTION:Help SANQC break stigma. Find out about on-campus mental health services as well as information and resources from community organizations. Fill out a short survey for a prize draw and participate in some activities for giveaways. \n
URL:https://www.sanqc.ca/event/mental-health-expo/
LOCATION:SANQC Multi-Purpose Space (1-096)\, 10215 108 St NW\, Edmonton\, Alberta\, T5J 1L6\, Canada
CATEGORIES:Mental Health Events
ATTACH;FMTTYPE=image/jpeg:/wp-content/uploads/2017/08/Section-3-MH-Expo.jpg
END:VEVENT
END:VCALENDAR