BEGIN:VCALENDAR
VERSION:2.0
PRODID:-//SANQC - ECPv4.9.14//NONSGML v1.0//EN
CALSCALE:GREGORIAN
METHOD:PUBLISH
X-WR-CALNAME:SANQC
X-ORIGINAL-URL:https://www.sanqc.ca
X-WR-CALDESC:Events for SANQC
BEGIN:VTIMEZONE
TZID:America/Edmonton
BEGIN:DAYLIGHT
TZOFFSETFROM:-0700
TZOFFSETTO:-0600
TZNAME:MDT
DTSTART:20170312T090000
END:DAYLIGHT
BEGIN:STANDARD
TZOFFSETFROM:-0600
TZOFFSETTO:-0700
TZNAME:MST
DTSTART:20171105T080000
END:STANDARD
END:VTIMEZONE
BEGIN:VEVENT
DTSTART;TZID=America/Edmonton:20171017T120000
DTEND;TZID=America/Edmonton:20171017T150000
DTSTAMP:20260424T000231
CREATED:20170811T202519Z
LAST-MODIFIED:20170913T210456Z
UID:584-1508241600-1508252400@www.sanqc.ca
SUMMARY:Mini Stress Free Zone
DESCRIPTION:Looking to unwind? Join SANQC for relaxing activities\, massages\, mandalas\, free snacks and enter our prize draw. \n
URL:https://www.sanqc.ca/event/mini-stress-free-zone/
LOCATION:SANQC Multi-Purpose Space (1-096)\, 10215 108 St NW\, Edmonton\, Alberta\, T5J 1L6\, Canada
CATEGORIES:Mental Health Events
ATTACH;FMTTYPE=image/jpeg:/wp-content/uploads/2017/08/Section-3-Mini-Stress-Free-Zone.jpg
END:VEVENT
END:VCALENDAR