BEGIN:VCALENDAR
VERSION:2.0
PRODID:-//SANQC - ECPv4.9.14//NONSGML v1.0//EN
CALSCALE:GREGORIAN
METHOD:PUBLISH
X-WR-CALNAME:SANQC
X-ORIGINAL-URL:https://www.sanqc.ca
X-WR-CALDESC:Events for SANQC
BEGIN:VTIMEZONE
TZID:America/Edmonton
BEGIN:DAYLIGHT
TZOFFSETFROM:-0700
TZOFFSETTO:-0600
TZNAME:MDT
DTSTART:20200308T090000
END:DAYLIGHT
BEGIN:STANDARD
TZOFFSETFROM:-0600
TZOFFSETTO:-0700
TZNAME:MST
DTSTART:20201101T080000
END:STANDARD
END:VTIMEZONE
BEGIN:VEVENT
DTSTART;TZID=America/Edmonton:20200610T133000
DTEND;TZID=America/Edmonton:20200610T153000
DTSTAMP:20260424T115315
CREATED:20200525T174930Z
LAST-MODIFIED:20200528T200659Z
UID:5142-1591795800-1591803000@www.sanqc.ca
SUMMARY:Netflix Watch Party
DESCRIPTION:Get your popcorn ready and join SANQC for a Netflix Watch Party! Connect with your NorQuest friends on Wed\, Jun 10 starting at 1:30 pm. \nYou’ll have a chance to suggest and vote for what movie we’ll watch together so keep an eye on our Instagram and Facebook stories! \nCurrent Spring/Summer NorQuest students in attendance will be entered into a $50 gift card draw during the movie so make sure you’re there! \n
URL:https://www.sanqc.ca/event/netflix-watch-party/
CATEGORIES:Social Events
ATTACH;FMTTYPE=image/jpeg:/wp-content/uploads/2020/05/NetflixWatchParty.jpeg
END:VEVENT
END:VCALENDAR