BEGIN:VCALENDAR
VERSION:2.0
PRODID:-//SANQC - ECPv4.9.14//NONSGML v1.0//EN
CALSCALE:GREGORIAN
METHOD:PUBLISH
X-WR-CALNAME:SANQC
X-ORIGINAL-URL:https://www.sanqc.ca
X-WR-CALDESC:Events for SANQC
BEGIN:VTIMEZONE
TZID:America/Edmonton
BEGIN:DAYLIGHT
TZOFFSETFROM:-0700
TZOFFSETTO:-0600
TZNAME:MDT
DTSTART:20250309T090000
END:DAYLIGHT
BEGIN:STANDARD
TZOFFSETFROM:-0600
TZOFFSETTO:-0700
TZNAME:MST
DTSTART:20251102T080000
END:STANDARD
END:VTIMEZONE
BEGIN:VEVENT
DTSTART;TZID=America/Edmonton:20251106T113000
DTEND;TZID=America/Edmonton:20251106T130000
DTSTAMP:20260423T210125
CREATED:20251002T163014Z
LAST-MODIFIED:20251022T151359Z
UID:10035-1762428600-1762434000@www.sanqc.ca
SUMMARY:Living Room Conversation • Mental Health
DESCRIPTION:Join your Students’ Association for our Living Room Conversation on Thu\, Nov 6\, from 11:30 am – 1 pm. This is an open-communication opportunity to meet new people\, connect\, engage\, and express yourself authentically. \nThis session will center on Mental Health and what it means to us. \nThe conversation will be facilitated\, but we encourage students to engage and direct the discussion to maximize their benefit from the experience. \nRegister for free HERE. \n \n
URL:https://www.sanqc.ca/event/nov6lrc/
CATEGORIES:Mental Health Events
ATTACH;FMTTYPE=image/png:/wp-content/uploads/2025/10/LRC-Website-1.png
END:VEVENT
END:VCALENDAR