BEGIN:VCALENDAR
VERSION:2.0
PRODID:-//SANQC - ECPv4.9.14//NONSGML v1.0//EN
CALSCALE:GREGORIAN
METHOD:PUBLISH
X-WR-CALNAME:SANQC
X-ORIGINAL-URL:https://www.sanqc.ca
X-WR-CALDESC:Events for SANQC
BEGIN:VTIMEZONE
TZID:America/Edmonton
BEGIN:DAYLIGHT
TZOFFSETFROM:-0700
TZOFFSETTO:-0600
TZNAME:MDT
DTSTART:20240310T090000
END:DAYLIGHT
BEGIN:STANDARD
TZOFFSETFROM:-0600
TZOFFSETTO:-0700
TZNAME:MST
DTSTART:20241103T080000
END:STANDARD
END:VTIMEZONE
BEGIN:VEVENT
DTSTART;VALUE=DATE:20241106
DTEND;VALUE=DATE:20241107
DTSTAMP:20260424T005557
CREATED:20240821T202337Z
LAST-MODIFIED:20241002T194325Z
UID:9205-1730851200-1730937599@www.sanqc.ca
SUMMARY:Taste of Diversity
DESCRIPTION:Join your Students’ Association for an amazing multicultural food showcase starting at 11 am on Wed\, Nov 6! We’ll have food from a variety of cultures to amaze your eyes and your appetite! \nYou’ll also have the chance to share suggestions for foods that you’d like to see at future versions of this event on our food board! \nMust be a current NorQuest student to participate. First come\, first served\, while quantities last. One (1) entry per student. \n  \n
URL:https://www.sanqc.ca/event/nov6tasteofdiversity/
LOCATION:Atrium (1-001)\, 10215 108 St NW\, Edmonton\, Alberta\, T5J 1L6\, Canada
CATEGORIES:Social Events
ATTACH;FMTTYPE=image/png:/wp-content/uploads/2024/08/Taste-of-Diversity-Fall-2024.png
END:VEVENT
END:VCALENDAR