BEGIN:VCALENDAR
VERSION:2.0
PRODID:-//SANQC - ECPv4.9.14//NONSGML v1.0//EN
CALSCALE:GREGORIAN
METHOD:PUBLISH
X-WR-CALNAME:SANQC
X-ORIGINAL-URL:https://www.sanqc.ca
X-WR-CALDESC:Events for SANQC
BEGIN:VTIMEZONE
TZID:America/Edmonton
BEGIN:DAYLIGHT
TZOFFSETFROM:-0700
TZOFFSETTO:-0600
TZNAME:MDT
DTSTART:20240310T090000
END:DAYLIGHT
BEGIN:STANDARD
TZOFFSETFROM:-0600
TZOFFSETTO:-0700
TZNAME:MST
DTSTART:20241103T080000
END:STANDARD
END:VTIMEZONE
BEGIN:VEVENT
DTSTART;TZID=America/Edmonton:20241008T110000
DTEND;TZID=America/Edmonton:20241008T140000
DTSTAMP:20260424T005235
CREATED:20240821T201738Z
LAST-MODIFIED:20240903T163127Z
UID:9201-1728385200-1728396000@www.sanqc.ca
SUMMARY:Headphone Dance Party
DESCRIPTION:Join SANQC for a dance party like you’ve probably never seen before! \nStop by the Atrium\, grab some headphone\, then head to the dance floor to enjoy a variety of music being played by a pair of DJ’s competing for your attention. \nEach DJ will be playing different music and your headphones will light up showing which one you’re listening to. They’ll change things up to try and keep the most people dancing to their beat. \n  \n
URL:https://www.sanqc.ca/event/oct8danceparty/
LOCATION:Atrium (1-001)\, 10215 108 St NW\, Edmonton\, Alberta\, T5J 1L6\, Canada
CATEGORIES:Social Events
ATTACH;FMTTYPE=image/png:/wp-content/uploads/2024/08/Headphone-Dance-Party.png
END:VEVENT
END:VCALENDAR