BEGIN:VCALENDAR
VERSION:2.0
PRODID:-//SANQC - ECPv4.9.14//NONSGML v1.0//EN
CALSCALE:GREGORIAN
METHOD:PUBLISH
X-WR-CALNAME:SANQC
X-ORIGINAL-URL:https://www.sanqc.ca
X-WR-CALDESC:Events for SANQC
BEGIN:VTIMEZONE
TZID:America/Edmonton
BEGIN:DAYLIGHT
TZOFFSETFROM:-0700
TZOFFSETTO:-0600
TZNAME:MDT
DTSTART:20250309T090000
END:DAYLIGHT
BEGIN:STANDARD
TZOFFSETFROM:-0600
TZOFFSETTO:-0700
TZNAME:MST
DTSTART:20251102T080000
END:STANDARD
END:VTIMEZONE
BEGIN:VEVENT
DTSTART;TZID=America/Edmonton:20251008T110000
DTEND;TZID=America/Edmonton:20251008T140000
DTSTAMP:20260423T215655
CREATED:20250813T213350Z
LAST-MODIFIED:20250925T224013Z
UID:9730-1759921200-1759932000@www.sanqc.ca
SUMMARY:Headphone Dance Party
DESCRIPTION:Join SANQC for a dance party like you’ve probably never seen before! \nStop by the Atrium and we’ll trade you a pair of headphones for your student ID (don’t worry\, you get your ID back when you return the headphones)\, then head to the dance floor to enjoy a variety of music being played by a pair of DJ’s competing for your attention. \nEach DJ will be playing different music and your headphones will light up showing which one you’re listening to. They’ll change things up to try and keep the most people dancing to their beat. \n  \n
URL:https://www.sanqc.ca/event/oct8headphone/
LOCATION:Atrium (1-001)\, 10215 108 St NW\, Edmonton\, Alberta\, T5J 1L6\, Canada
CATEGORIES:Social Events
ATTACH;FMTTYPE=image/png:/wp-content/uploads/2025/09/Headphone-Dance-Party.png
END:VEVENT
END:VCALENDAR