BEGIN:VCALENDAR
VERSION:2.0
PRODID:-//SANQC - ECPv4.9.14//NONSGML v1.0//EN
CALSCALE:GREGORIAN
METHOD:PUBLISH
X-WR-CALNAME:SANQC
X-ORIGINAL-URL:https://www.sanqc.ca
X-WR-CALDESC:Events for SANQC
BEGIN:VTIMEZONE
TZID:America/Edmonton
BEGIN:DAYLIGHT
TZOFFSETFROM:-0700
TZOFFSETTO:-0600
TZNAME:MDT
DTSTART:20210314T090000
END:DAYLIGHT
BEGIN:STANDARD
TZOFFSETFROM:-0600
TZOFFSETTO:-0700
TZNAME:MST
DTSTART:20211107T080000
END:STANDARD
END:VTIMEZONE
BEGIN:VEVENT
DTSTART;TZID=America/Edmonton:20210420T140000
DTEND;TZID=America/Edmonton:20210420T160000
DTSTAMP:20260423T225356
CREATED:20210407T204318Z
LAST-MODIFIED:20210409T142901Z
UID:6187-1618927200-1618934400@www.sanqc.ca
SUMMARY:Painting with Happy
DESCRIPTION:Spring is here and flowers are starting to bloom. What better way to celebrate than to create a beautiful piece of art that you can use to decorate your home or gift to friend or family member? \nJoin Happy from 2 – 4 pm on Tue\, Apr 20 where she’ll show you how to create a “Lavender Field” spring painting. Whether you’ve painted before or not\, this event is for you. Happy will help you through every step of the process as you create your masterpiece. \nWhat you’ll need: \n\nCanvas\nAcrylic Paint (purple\, white\, yellow\, green\, blue and pink)\nPaint brush (2-3 different sizes)\n3 or more Q-tips\nPaint Pallet (can be something like a paper plate)\nPainters Tape (optional)\n\nAll current winter term NorQuest students that participate will have a chance to win 1 of 2 painting kits to help you continue your creative journey. \nJoin in the painting fun on Blackboard here. \n  \n
URL:https://www.sanqc.ca/event/paintwithhappy/
LOCATION:Blackboard
CATEGORIES:Social Events
ATTACH;FMTTYPE=image/jpeg:/wp-content/uploads/2021/04/Apr20PaintingWeb.jpeg
END:VEVENT
END:VCALENDAR