BEGIN:VCALENDAR
VERSION:2.0
PRODID:-//SANQC - ECPv4.9.14//NONSGML v1.0//EN
CALSCALE:GREGORIAN
METHOD:PUBLISH
X-WR-CALNAME:SANQC
X-ORIGINAL-URL:https://www.sanqc.ca
X-WR-CALDESC:Events for SANQC
BEGIN:VTIMEZONE
TZID:America/Edmonton
BEGIN:DAYLIGHT
TZOFFSETFROM:-0700
TZOFFSETTO:-0600
TZNAME:MDT
DTSTART:20170312T090000
END:DAYLIGHT
BEGIN:STANDARD
TZOFFSETFROM:-0600
TZOFFSETTO:-0700
TZNAME:MST
DTSTART:20171105T080000
END:STANDARD
END:VTIMEZONE
BEGIN:VEVENT
DTSTART;TZID=America/Edmonton:20171019T110000
DTEND;TZID=America/Edmonton:20171019T150000
DTSTAMP:20260423T224517
CREATED:20171003T151501Z
LAST-MODIFIED:20171003T151501Z
UID:977-1508410800-1508425200@www.sanqc.ca
SUMMARY:Peer Connections: Board Game Café
DESCRIPTION:Our peer support team is ready to mingle and meet you! Join them at the board game café and meet some new people\, play a variety of board games and enjoy some treats. Come alone\, or bring some friends. Everyone is welcome. \n
URL:https://www.sanqc.ca/event/peer-connections-board-game-cafe/
LOCATION:SANQC Multi-Purpose Space (1-096)\, 10215 108 St NW\, Edmonton\, Alberta\, T5J 1L6\, Canada
CATEGORIES:Mental Health Events,Social Events
ATTACH;FMTTYPE=image/jpeg:/wp-content/uploads/2017/08/O8A1361.jpg
END:VEVENT
END:VCALENDAR