BEGIN:VCALENDAR
VERSION:2.0
PRODID:-//SANQC - ECPv4.9.14//NONSGML v1.0//EN
CALSCALE:GREGORIAN
METHOD:PUBLISH
X-WR-CALNAME:SANQC
X-ORIGINAL-URL:https://www.sanqc.ca
X-WR-CALDESC:Events for SANQC
BEGIN:VTIMEZONE
TZID:America/Edmonton
BEGIN:DAYLIGHT
TZOFFSETFROM:-0700
TZOFFSETTO:-0600
TZNAME:MDT
DTSTART:20180311T090000
END:DAYLIGHT
BEGIN:STANDARD
TZOFFSETFROM:-0600
TZOFFSETTO:-0700
TZNAME:MST
DTSTART:20181104T080000
END:STANDARD
END:VTIMEZONE
BEGIN:VEVENT
DTSTART;TZID=America/Edmonton:20180315T163000
DTEND;TZID=America/Edmonton:20180315T190000
DTSTAMP:20260424T143127
CREATED:20180221T232703Z
LAST-MODIFIED:20180312T212036Z
UID:1983-1521131400-1521140400@www.sanqc.ca
SUMMARY:Peer Connections: Paint Party
DESCRIPTION:Join the Peer Support team for a FREE and exciting paint party. \nAll supplies are provided and there will be food served. \n
URL:https://www.sanqc.ca/event/peer-connections-paint-party-4/
LOCATION:SANQC Multi-Purpose Space (1-096)\, 10215 108 St NW\, Edmonton\, Alberta\, T5J 1L6\, Canada
CATEGORIES:Mental Health Events,Social Events
ATTACH;FMTTYPE=image/jpeg:/wp-content/uploads/2018/02/WhatsApp-Image-2018-02-01-at-8.29.13-PM.jpeg
END:VEVENT
END:VCALENDAR