BEGIN:VCALENDAR
VERSION:2.0
PRODID:-//SANQC - ECPv4.9.14//NONSGML v1.0//EN
CALSCALE:GREGORIAN
METHOD:PUBLISH
X-WR-CALNAME:SANQC
X-ORIGINAL-URL:https://www.sanqc.ca
X-WR-CALDESC:Events for SANQC
BEGIN:VTIMEZONE
TZID:America/Edmonton
BEGIN:DAYLIGHT
TZOFFSETFROM:-0700
TZOFFSETTO:-0600
TZNAME:MDT
DTSTART:20190310T090000
END:DAYLIGHT
BEGIN:STANDARD
TZOFFSETFROM:-0600
TZOFFSETTO:-0700
TZNAME:MST
DTSTART:20191103T080000
END:STANDARD
END:VTIMEZONE
BEGIN:VEVENT
DTSTART;TZID=America/Edmonton:20191212T113000
DTEND;TZID=America/Edmonton:20191212T133000
DTSTAMP:20260424T043957
CREATED:20191119T173318Z
LAST-MODIFIED:20191119T173318Z
UID:4511-1576150200-1576157400@www.sanqc.ca
SUMMARY:Pet Therapy at the Learner Centre
DESCRIPTION:Visit the Learner Centre over the lunch hour and spend time with some great doggos.  It will be a 12/10 experience\, do not miss out! \n
URL:https://www.sanqc.ca/event/pet-therapy-at-the-learner-centre/
LOCATION:Learner Centre\, 10215 108 Street NW\, Edmonton\, AB\, T5J 1L6\, Canada
CATEGORIES:NorQuest Event
ATTACH;FMTTYPE=image/jpeg:/wp-content/uploads/2019/11/dec-2019-destress.jpg
END:VEVENT
END:VCALENDAR