BEGIN:VCALENDAR
VERSION:2.0
PRODID:-//SANQC - ECPv4.9.14//NONSGML v1.0//EN
CALSCALE:GREGORIAN
METHOD:PUBLISH
X-WR-CALNAME:SANQC
X-ORIGINAL-URL:https://www.sanqc.ca
X-WR-CALDESC:Events for SANQC
BEGIN:VTIMEZONE
TZID:America/Edmonton
BEGIN:DAYLIGHT
TZOFFSETFROM:-0700
TZOFFSETTO:-0600
TZNAME:MDT
DTSTART:20190310T090000
END:DAYLIGHT
BEGIN:STANDARD
TZOFFSETFROM:-0600
TZOFFSETTO:-0700
TZNAME:MST
DTSTART:20191103T080000
END:STANDARD
END:VTIMEZONE
BEGIN:VEVENT
DTSTART;TZID=America/Edmonton:20190418T113000
DTEND;TZID=America/Edmonton:20190418T133000
DTSTAMP:20260423T200710
CREATED:20190319T190603Z
LAST-MODIFIED:20190319T190603Z
UID:3747-1555587000-1555594200@www.sanqc.ca
SUMMARY:Pet Therapy: Doggos on Deck
DESCRIPTION:Join the Learner Centre and St. John Ambulance for some furry friend stress relief! \n
URL:https://www.sanqc.ca/event/pet-therapy-doggos-on-deck/
LOCATION:Learner Centre\, 10215 108 Street NW\, Edmonton\, AB\, T5J 1L6\, Canada
CATEGORIES:NorQuest Event
ATTACH;FMTTYPE=image/jpeg:/wp-content/uploads/2019/03/Doggos-on-Deck.jpg
ORGANIZER;CN="NorQuest%20College%20Library":MAILTO:library@norquest.ca
END:VEVENT
END:VCALENDAR