BEGIN:VCALENDAR
VERSION:2.0
PRODID:-//SANQC - ECPv4.9.14//NONSGML v1.0//EN
CALSCALE:GREGORIAN
METHOD:PUBLISH
X-WR-CALNAME:SANQC
X-ORIGINAL-URL:https://www.sanqc.ca
X-WR-CALDESC:Events for SANQC
BEGIN:VTIMEZONE
TZID:America/Edmonton
BEGIN:DAYLIGHT
TZOFFSETFROM:-0700
TZOFFSETTO:-0600
TZNAME:MDT
DTSTART:20180311T090000
END:DAYLIGHT
BEGIN:STANDARD
TZOFFSETFROM:-0600
TZOFFSETTO:-0700
TZNAME:MST
DTSTART:20181104T080000
END:STANDARD
END:VTIMEZONE
BEGIN:VEVENT
DTSTART;TZID=America/Edmonton:20181128T113000
DTEND;TZID=America/Edmonton:20181128T123000
DTSTAMP:20260424T003017
CREATED:20181026T220110Z
LAST-MODIFIED:20181106T211702Z
UID:3066-1543404600-1543408200@www.sanqc.ca
SUMMARY:SANQC 2018 Annual General Meeting
DESCRIPTION:SANQC presents the 2018 Annual General Meeting \nJoin us for presentations of:\n• Audited financial statements\n• Statement of activities\n• Bylaw changes\n• Fee changes \nStudent ID is required and attending the AGM enters you for a chance to win an iPad! \nFree lunch is provided. \n
URL:https://www.sanqc.ca/event/sanqc-2018-agm/
LOCATION:SANQC Multi-Purpose Space (1-096)\, 10215 108 St NW\, Edmonton\, Alberta\, T5J 1L6\, Canada
CATEGORIES:Social Events
ATTACH;FMTTYPE=image/jpeg:/wp-content/uploads/2017/08/masthead-mobile-advocacy.jpg
END:VEVENT
END:VCALENDAR