BEGIN:VCALENDAR
VERSION:2.0
PRODID:-//SANQC - ECPv4.9.14//NONSGML v1.0//EN
CALSCALE:GREGORIAN
METHOD:PUBLISH
X-WR-CALNAME:SANQC
X-ORIGINAL-URL:https://www.sanqc.ca
X-WR-CALDESC:Events for SANQC
BEGIN:VTIMEZONE
TZID:America/Edmonton
BEGIN:DAYLIGHT
TZOFFSETFROM:-0700
TZOFFSETTO:-0600
TZNAME:MDT
DTSTART:20190310T090000
END:DAYLIGHT
BEGIN:STANDARD
TZOFFSETFROM:-0600
TZOFFSETTO:-0700
TZNAME:MST
DTSTART:20191103T080000
END:STANDARD
END:VTIMEZONE
BEGIN:VEVENT
DTSTART;TZID=America/Edmonton:20191127T130000
DTEND;TZID=America/Edmonton:20191127T140000
DTSTAMP:20260424T033613
CREATED:20191104T183357Z
LAST-MODIFIED:20191104T183357Z
UID:4367-1574859600-1574863200@www.sanqc.ca
SUMMARY:SANQC 2019 Annual General Meeting
DESCRIPTION:Bring your student ID and join SANQC on Wed\, Nov 27 from 1 – 2 pm in the Multi-Purpose Space (1-096) for our Annual General Meeting! All in attendance will enjoy a free lunch and will have a chance to win a $100 Visa gift card! \nSANQC 2019 AGM Agenda\n1.0 Approval of Agenda\nRecommended motion: “To approve the agenda of the November 27\, 2019 Annual General Meeting of the Students’ Association of NorQuest College.” \n2.0 Approval of Minutes\nRecommended motion: “To approve the minutes of the Annual General Meeting of the Students’ Association of NorQuest College on November 28\, 2018.” \n3.0 Presentation of Audited Financial Statements\nRecommended Motion: “Be it resolved by special resolution of the Annual General Meeting of the Students’ Association of NorQuest College that the 2019 audited financial statements be accepted as presented.” \n4.0 Report on Activities \n5.0 Response to Provincial Budget \n6.0 Adjournment\nRecommended Motion: “To adjourn the 2019 Annual General Meeting of the Students’ Association of NorQuest College.” \n7.0 Door Prize Winner Announced \n
URL:https://www.sanqc.ca/event/sanqc-2019-annual-general-meeting/
LOCATION:SANQC Multi-Purpose Space (1-096)\, 10215 108 St NW\, Edmonton\, Alberta\, T5J 1L6\, Canada
CATEGORIES:Advocacy Event,Students' Council
ATTACH;FMTTYPE=image/jpeg:/wp-content/uploads/2019/10/IMG_3347.jpg
END:VEVENT
END:VCALENDAR