BEGIN:VCALENDAR
VERSION:2.0
PRODID:-//SANQC - ECPv4.9.14//NONSGML v1.0//EN
CALSCALE:GREGORIAN
METHOD:PUBLISH
X-WR-CALNAME:SANQC
X-ORIGINAL-URL:https://www.sanqc.ca
X-WR-CALDESC:Events for SANQC
BEGIN:VTIMEZONE
TZID:America/Edmonton
BEGIN:DAYLIGHT
TZOFFSETFROM:-0700
TZOFFSETTO:-0600
TZNAME:MDT
DTSTART:20170312T090000
END:DAYLIGHT
BEGIN:STANDARD
TZOFFSETFROM:-0600
TZOFFSETTO:-0700
TZNAME:MST
DTSTART:20171105T080000
END:STANDARD
END:VTIMEZONE
BEGIN:VEVENT
DTSTART;TZID=America/Edmonton:20171129T113000
DTEND;TZID=America/Edmonton:20171129T123000
DTSTAMP:20260424T031641
CREATED:20171102T145721Z
LAST-MODIFIED:20171107T200414Z
UID:1348-1511955000-1511958600@www.sanqc.ca
SUMMARY:SANQC AGM
DESCRIPTION:SANQC presents the 2017 Annual General Meeting \nJoin us for presentations of:\n• Audited financial statements\n• Bylaw changes\n• Fee changes \nStudent ID is required and attending the AGM enters you for a chance to win an iPad! \nFree lunch is provided. \n
URL:https://www.sanqc.ca/event/sanqc-agm/
LOCATION:SANQC Multi-Purpose Space (1-096)\, 10215 108 St NW\, Edmonton\, Alberta\, T5J 1L6\, Canada
CATEGORIES:Social Events
ATTACH;FMTTYPE=image/jpeg:/wp-content/uploads/2017/11/O8A1273.jpg
END:VEVENT
END:VCALENDAR