BEGIN:VCALENDAR
VERSION:2.0
PRODID:-//SANQC - ECPv4.9.14//NONSGML v1.0//EN
CALSCALE:GREGORIAN
METHOD:PUBLISH
X-WR-CALNAME:SANQC
X-ORIGINAL-URL:https://www.sanqc.ca
X-WR-CALDESC:Events for SANQC
BEGIN:VTIMEZONE
TZID:America/Edmonton
BEGIN:DAYLIGHT
TZOFFSETFROM:-0700
TZOFFSETTO:-0600
TZNAME:MDT
DTSTART:20180311T090000
END:DAYLIGHT
BEGIN:STANDARD
TZOFFSETFROM:-0600
TZOFFSETTO:-0700
TZNAME:MST
DTSTART:20181104T080000
END:STANDARD
END:VTIMEZONE
BEGIN:VEVENT
DTSTART;TZID=America/Edmonton:20181017T173000
DTEND;TZID=America/Edmonton:20181017T200000
DTSTAMP:20260424T042510
CREATED:20180928T205855Z
LAST-MODIFIED:20181001T184419Z
UID:2870-1539797400-1539806400@www.sanqc.ca
SUMMARY:SANQC Presents Art After Dark
DESCRIPTION:Got those creative juices flowing? Sign up for a fun and FREE painting session to exercise those artistic muscles. Tyler from Art After Dark will show you how to create a masterpiece that you can take home with you. \nSpace is limited so register soon! \nFood and beverages will be provided. \n
URL:https://www.sanqc.ca/event/sanqc-presents-art-after-dark/
LOCATION:SANQC Multi-Purpose Space (1-096)\, 10215 108 St NW\, Edmonton\, Alberta\, T5J 1L6\, Canada
CATEGORIES:Social Events
ATTACH;FMTTYPE=image/jpeg:/wp-content/uploads/2018/09/firefliessmall.jpg
END:VEVENT
END:VCALENDAR