BEGIN:VCALENDAR
VERSION:2.0
PRODID:-//SANQC - ECPv4.9.14//NONSGML v1.0//EN
CALSCALE:GREGORIAN
METHOD:PUBLISH
X-WR-CALNAME:SANQC
X-ORIGINAL-URL:https://www.sanqc.ca
X-WR-CALDESC:Events for SANQC
BEGIN:VTIMEZONE
TZID:America/Edmonton
BEGIN:DAYLIGHT
TZOFFSETFROM:-0700
TZOFFSETTO:-0600
TZNAME:MDT
DTSTART:20250309T090000
END:DAYLIGHT
BEGIN:STANDARD
TZOFFSETFROM:-0600
TZOFFSETTO:-0700
TZNAME:MST
DTSTART:20251102T080000
END:STANDARD
END:VTIMEZONE
BEGIN:VEVENT
DTSTART;TZID=America/Edmonton:20250916T143000
DTEND;TZID=America/Edmonton:20250916T160000
DTSTAMP:20260423T221626
CREATED:20250909T170741Z
LAST-MODIFIED:20250909T214711Z
UID:9971-1758033000-1758038400@www.sanqc.ca
SUMMARY:Living Room Conversation • Respect & Consent
DESCRIPTION:Join your Students’ Association for our first Living Room Conversation on Tue\, Sep 16 from 2:30 – 4 pm in 5-213\, CELT. This is an open-communication opportunity to meet new people\, connect\, engage and express yourself authentically. \nThis session will focus on Respect\, what it means to us\, what makes us feel respected or disrespected. \nThe experience will be facilitated\, but we encourage students to engage in the conversation and direct the discussion to maximize their benefit from the experience. \nRegister for free HERE. \n \n
URL:https://www.sanqc.ca/event/sep16lrc/
CATEGORIES:Mental Health Events
ATTACH;FMTTYPE=image/png:/wp-content/uploads/2025/09/LRC-1-1.png
END:VEVENT
END:VCALENDAR