BEGIN:VCALENDAR
VERSION:2.0
PRODID:-//SANQC - ECPv4.9.14//NONSGML v1.0//EN
CALSCALE:GREGORIAN
METHOD:PUBLISH
X-WR-CALNAME:SANQC
X-ORIGINAL-URL:https://www.sanqc.ca
X-WR-CALDESC:Events for SANQC
BEGIN:VTIMEZONE
TZID:America/Edmonton
BEGIN:DAYLIGHT
TZOFFSETFROM:-0700
TZOFFSETTO:-0600
TZNAME:MDT
DTSTART:20220313T090000
END:DAYLIGHT
BEGIN:STANDARD
TZOFFSETFROM:-0600
TZOFFSETTO:-0700
TZNAME:MST
DTSTART:20221106T080000
END:STANDARD
END:VTIMEZONE
BEGIN:VEVENT
DTSTART;TZID=America/Edmonton:20220921T090000
DTEND;TZID=America/Edmonton:20220921T150000
DTSTAMP:20260424T040645
CREATED:20220826T193643Z
LAST-MODIFIED:20220826T193643Z
UID:7776-1663750800-1663772400@www.sanqc.ca
SUMMARY:Free Store
DESCRIPTION:Welcome to Free Store! Stop by and browse through the gently used and donated items. Each Free Store has a variety of items including school supplies\, clothing\, household goods\, kitchen wares\, children’s toys and other everyday items. \nThat’s not all! Free Store will also include fresh fruits and packaged food like canned goods\, pasta and cereal! \n  \n
URL:https://www.sanqc.ca/event/sep21freestore/
LOCATION:SANQC Multi-Purpose Space (1-096)\, 10215 108 St NW\, Edmonton\, Alberta\, T5J 1L6\, Canada
CATEGORIES:Mental Health Events
ATTACH;FMTTYPE=image/png:/wp-content/uploads/2022/08/Sep21FreeStore.png
END:VEVENT
END:VCALENDAR