BEGIN:VCALENDAR
VERSION:2.0
PRODID:-//SANQC - ECPv4.9.14//NONSGML v1.0//EN
CALSCALE:GREGORIAN
METHOD:PUBLISH
X-WR-CALNAME:SANQC
X-ORIGINAL-URL:https://www.sanqc.ca
X-WR-CALDESC:Events for SANQC
BEGIN:VTIMEZONE
TZID:America/Edmonton
BEGIN:DAYLIGHT
TZOFFSETFROM:-0700
TZOFFSETTO:-0600
TZNAME:MDT
DTSTART:20180311T090000
END:DAYLIGHT
BEGIN:STANDARD
TZOFFSETFROM:-0600
TZOFFSETTO:-0700
TZNAME:MST
DTSTART:20181104T080000
END:STANDARD
END:VTIMEZONE
BEGIN:VEVENT
DTSTART;TZID=America/Edmonton:20180410T100000
DTEND;TZID=America/Edmonton:20180410T150000
DTSTAMP:20260423T225305
CREATED:20180322T150206Z
LAST-MODIFIED:20180322T150206Z
UID:2197-1523354400-1523372400@www.sanqc.ca
SUMMARY:Stress Free Zone • Oxygen Bar and Cartoon Day
DESCRIPTION:It’s that time again! Stop by and join SANQC for some relaxation. \nThe first day of our stress free zone will feature an oxygen bar\, cartoons\, cereal and hot chocolate! We’ll even have some cozy air beds for you to kick back and relax in while you watch a show. \n
URL:https://www.sanqc.ca/event/sfz1/
LOCATION:SANQC Multi-Purpose Space (1-096)\, 10215 108 St NW\, Edmonton\, Alberta\, T5J 1L6\, Canada
CATEGORIES:Mental Health Events
ATTACH;FMTTYPE=image/jpeg:/wp-content/uploads/2018/03/IMG_4756.jpg
ORGANIZER;CN="NorQuest%20College%20Library":MAILTO:library@norquest.ca
END:VEVENT
END:VCALENDAR