BEGIN:VCALENDAR
VERSION:2.0
PRODID:-//SANQC - ECPv4.9.14//NONSGML v1.0//EN
CALSCALE:GREGORIAN
METHOD:PUBLISH
X-WR-CALNAME:SANQC
X-ORIGINAL-URL:https://www.sanqc.ca
X-WR-CALDESC:Events for SANQC
BEGIN:VTIMEZONE
TZID:America/Edmonton
BEGIN:DAYLIGHT
TZOFFSETFROM:-0700
TZOFFSETTO:-0600
TZNAME:MDT
DTSTART:20180311T090000
END:DAYLIGHT
BEGIN:STANDARD
TZOFFSETFROM:-0600
TZOFFSETTO:-0700
TZNAME:MST
DTSTART:20181104T080000
END:STANDARD
END:VTIMEZONE
BEGIN:VEVENT
DTSTART;TZID=America/Edmonton:20180411T100000
DTEND;TZID=America/Edmonton:20180411T150000
DTSTAMP:20260423T225240
CREATED:20180322T150927Z
LAST-MODIFIED:20180322T152805Z
UID:2203-1523440800-1523458800@www.sanqc.ca
SUMMARY:Stress Free Zone • Scratch Crafts\, Games & Yoga
DESCRIPTION:On the second day of stress free zone\, SANQC gives to you… yoga\, scratch crafts\, games\, tea & cookies! \nAnd don’t forget to enter into our prize basket drawing\, one happening each day of the stress free zone! \n
URL:https://www.sanqc.ca/event/sfz2/
LOCATION:SANQC Multi-Purpose Space (1-096)\, 10215 108 St NW\, Edmonton\, Alberta\, T5J 1L6\, Canada
CATEGORIES:Mental Health Events
ATTACH;FMTTYPE=image/jpeg:/wp-content/uploads/2018/03/20170405_105907.jpg
END:VEVENT
END:VCALENDAR