BEGIN:VCALENDAR
VERSION:2.0
PRODID:-//SANQC - ECPv4.9.14//NONSGML v1.0//EN
CALSCALE:GREGORIAN
METHOD:PUBLISH
X-WR-CALNAME:SANQC
X-ORIGINAL-URL:https://www.sanqc.ca
X-WR-CALDESC:Events for SANQC
BEGIN:VTIMEZONE
TZID:America/Edmonton
BEGIN:DAYLIGHT
TZOFFSETFROM:-0700
TZOFFSETTO:-0600
TZNAME:MDT
DTSTART:20180311T090000
END:DAYLIGHT
BEGIN:STANDARD
TZOFFSETFROM:-0600
TZOFFSETTO:-0700
TZNAME:MST
DTSTART:20181104T080000
END:STANDARD
END:VTIMEZONE
BEGIN:VEVENT
DTSTART;TZID=America/Edmonton:20180412T100000
DTEND;TZID=America/Edmonton:20180412T150000
DTSTAMP:20260423T224259
CREATED:20180322T151528Z
LAST-MODIFIED:20180322T151528Z
UID:2207-1523527200-1523545200@www.sanqc.ca
SUMMARY:Stress Free Zone • FREE Massages & Relaxing Activities
DESCRIPTION:It’s the final day of our stress free zone and what better way to wrap up than with FREE massages? \nWhether it’s your first\, second or third day of enjoying our stress free zone event\, stop by\, enjoy a massage and check out the other activities we’ll have on the go. Enjoy some time at the mandala table\, grab a snack and let us know what you liked and what you didn’t so you can be entered into our gift basket prize draw! \n
URL:https://www.sanqc.ca/event/sfz3/
LOCATION:SANQC Multi-Purpose Space (1-096)\, 10215 108 St NW\, Edmonton\, Alberta\, T5J 1L6\, Canada
CATEGORIES:Mental Health Events
ATTACH;FMTTYPE=image/jpeg:/wp-content/uploads/2018/03/WhatsApp-Image-2018-02-15-at-11.14.12-AM.jpeg
END:VEVENT
END:VCALENDAR