BEGIN:VCALENDAR
VERSION:2.0
PRODID:-//SANQC - ECPv4.9.14//NONSGML v1.0//EN
CALSCALE:GREGORIAN
METHOD:PUBLISH
X-WR-CALNAME:SANQC
X-ORIGINAL-URL:https://www.sanqc.ca
X-WR-CALDESC:Events for SANQC
BEGIN:VTIMEZONE
TZID:America/Edmonton
BEGIN:DAYLIGHT
TZOFFSETFROM:-0700
TZOFFSETTO:-0600
TZNAME:MDT
DTSTART:20190310T090000
END:DAYLIGHT
BEGIN:STANDARD
TZOFFSETFROM:-0600
TZOFFSETTO:-0700
TZNAME:MST
DTSTART:20191103T080000
END:STANDARD
END:VTIMEZONE
BEGIN:VEVENT
DTSTART;TZID=America/Edmonton:20190206T121500
DTEND;TZID=America/Edmonton:20190206T133000
DTSTAMP:20260424T031803
CREATED:20190128T212239Z
LAST-MODIFIED:20190128T222647Z
UID:3497-1549455300-1549459800@www.sanqc.ca
SUMMARY:Snack & Learn: Applying to Graduate
DESCRIPTION:Join us for this Snack & Learn Session on Applying to Graduate. Hosted by the Office of the Registrar\, this short presentation will teach you what the process means\, and how to fill out your form. \nAll registered participants will receive free snacks and be entered to win a $50 gift card. \n
URL:https://www.sanqc.ca/event/snack-learn-applying-to-graduate/
CATEGORIES:Mental Health Events
END:VEVENT
END:VCALENDAR