BEGIN:VCALENDAR
VERSION:2.0
PRODID:-//SANQC - ECPv4.9.14//NONSGML v1.0//EN
CALSCALE:GREGORIAN
METHOD:PUBLISH
X-WR-CALNAME:SANQC
X-ORIGINAL-URL:https://www.sanqc.ca
X-WR-CALDESC:Events for SANQC
BEGIN:VTIMEZONE
TZID:America/Edmonton
BEGIN:DAYLIGHT
TZOFFSETFROM:-0700
TZOFFSETTO:-0600
TZNAME:MDT
DTSTART:20190310T090000
END:DAYLIGHT
BEGIN:STANDARD
TZOFFSETFROM:-0600
TZOFFSETTO:-0700
TZNAME:MST
DTSTART:20191103T080000
END:STANDARD
END:VTIMEZONE
BEGIN:VEVENT
DTSTART;TZID=America/Edmonton:20190214T110000
DTEND;TZID=America/Edmonton:20190214T130000
DTSTAMP:20260423T200019
CREATED:20190130T225552Z
LAST-MODIFIED:20190131T172136Z
UID:3510-1550142000-1550149200@www.sanqc.ca
SUMMARY:SPNS Love Yourself & Mental Health Awareness
DESCRIPTION:The Student Practical Nurse Society student club is hosting a Valentine’s day event with chocolates and lollipops. \nThey will be asking for you to participate in their self love board where you write something that you love about yourself. \nThey will be collecting donations to be given to the Canadian Mental Health Association. \n
URL:https://www.sanqc.ca/event/spns-love-yourself-mental-health-awareness/
LOCATION:Atrium (1-001)\, 10215 108 St NW\, Edmonton\, Alberta\, T5J 1L6\, Canada
CATEGORIES:Student Club Event
ATTACH;FMTTYPE=image/jpeg:/wp-content/uploads/2019/01/20180214_110128.jpg
END:VEVENT
END:VCALENDAR