BEGIN:VCALENDAR
VERSION:2.0
PRODID:-//SANQC - ECPv4.9.14//NONSGML v1.0//EN
CALSCALE:GREGORIAN
METHOD:PUBLISH
X-WR-CALNAME:SANQC
X-ORIGINAL-URL:https://www.sanqc.ca
X-WR-CALDESC:Events for SANQC
BEGIN:VTIMEZONE
TZID:America/Edmonton
BEGIN:DAYLIGHT
TZOFFSETFROM:-0700
TZOFFSETTO:-0600
TZNAME:MDT
DTSTART:20190310T090000
END:DAYLIGHT
BEGIN:STANDARD
TZOFFSETFROM:-0600
TZOFFSETTO:-0700
TZNAME:MST
DTSTART:20191103T080000
END:STANDARD
END:VTIMEZONE
BEGIN:VEVENT
DTSTART;TZID=America/Edmonton:20190416T110000
DTEND;TZID=America/Edmonton:20190416T130000
DTSTAMP:20260423T152426
CREATED:20190403T233928Z
LAST-MODIFIED:20190404T183258Z
UID:3827-1555412400-1555419600@www.sanqc.ca
SUMMARY:SPNS Presents • Nursing Week Appreciation
DESCRIPTION:Join the Student Practical Nurse Society Club (SPNS) in celebrating Nursing Week. Help them appreciate all the nurses out there while having fun and relieving stress before exams. \nThere’ll be chocolates\, juice\, prizes\, games and a chance to write appreciation notes for nurses. Don’t miss out! \n
URL:https://www.sanqc.ca/event/spns-presents-%e2%80%a2-nursing-week-appreciation/
LOCATION:SANQC Multi-Purpose Space (1-096)\, 10215 108 St NW\, Edmonton\, Alberta\, T5J 1L6\, Canada
CATEGORIES:Student Club Event
ATTACH;FMTTYPE=image/jpeg:/wp-content/uploads/2018/10/SPNS-Logo-1.jpg
END:VEVENT
END:VCALENDAR