BEGIN:VCALENDAR
VERSION:2.0
PRODID:-//SANQC - ECPv4.9.14//NONSGML v1.0//EN
CALSCALE:GREGORIAN
METHOD:PUBLISH
X-WR-CALNAME:SANQC
X-ORIGINAL-URL:https://www.sanqc.ca
X-WR-CALDESC:Events for SANQC
BEGIN:VTIMEZONE
TZID:America/Edmonton
BEGIN:DAYLIGHT
TZOFFSETFROM:-0700
TZOFFSETTO:-0600
TZNAME:MDT
DTSTART:20240310T090000
END:DAYLIGHT
BEGIN:STANDARD
TZOFFSETFROM:-0600
TZOFFSETTO:-0700
TZNAME:MST
DTSTART:20241103T080000
END:STANDARD
END:VTIMEZONE
BEGIN:VEVENT
DTSTART;TZID=America/Edmonton:20240522T110000
DTEND;TZID=America/Edmonton:20240522T133000
DTSTAMP:20260423T235514
CREATED:20240424T213757Z
LAST-MODIFIED:20240424T213757Z
UID:9115-1716375600-1716384600@www.sanqc.ca
SUMMARY:Week of Welcome • Meet the Career Centre
DESCRIPTION:Meet the Career Center team\, find out what they do and how they can help YOU! \nTake part in activities and chat with a Career Coach who can answer your questions and help you figure out your next career steps! \n  \n
URL:https://www.sanqc.ca/event/spring24careercentre/
LOCATION:Atrium (1-001)\, 10215 108 St NW\, Edmonton\, Alberta\, T5J 1L6\, Canada
CATEGORIES:NorQuest Event
ATTACH;FMTTYPE=image/png:/wp-content/uploads/2023/08/CareerCentre_Banner.png
ORGANIZER;CN="Career%20Centre":MAILTO:careercentre@norquest.ca
END:VEVENT
END:VCALENDAR