BEGIN:VCALENDAR
VERSION:2.0
PRODID:-//SANQC - ECPv4.9.14//NONSGML v1.0//EN
CALSCALE:GREGORIAN
METHOD:PUBLISH
X-WR-CALNAME:SANQC
X-ORIGINAL-URL:https://www.sanqc.ca
X-WR-CALDESC:Events for SANQC
BEGIN:VTIMEZONE
TZID:America/Edmonton
BEGIN:DAYLIGHT
TZOFFSETFROM:-0700
TZOFFSETTO:-0600
TZNAME:MDT
DTSTART:20250309T090000
END:DAYLIGHT
BEGIN:STANDARD
TZOFFSETFROM:-0600
TZOFFSETTO:-0700
TZNAME:MST
DTSTART:20251102T080000
END:STANDARD
END:VTIMEZONE
BEGIN:VEVENT
DTSTART;TZID=America/Edmonton:20250522T140000
DTEND;TZID=America/Edmonton:20250522T170000
DTSTAMP:20260423T221758
CREATED:20250423T172126Z
LAST-MODIFIED:20250423T175952Z
UID:9640-1747922400-1747933200@www.sanqc.ca
SUMMARY:Week of Welcome • Fresh Food Market
DESCRIPTION:FRESH FOOD NO STRESS!!! \nCenter for Growth & Harmony is bringing fresh produce and meat straight to campus\, at prices made for student budgets. Order online\, pick up at school\, it’s that easy. \nEat well\, think better\, and save on cash. Healthy eating shouldn’t break the bank! \n  \n
URL:https://www.sanqc.ca/event/spring25freshfoodmarket/
LOCATION:Atrium (1-001)\, 10215 108 St NW\, Edmonton\, Alberta\, T5J 1L6\, Canada
CATEGORIES:Mental Health Events,NorQuest Event
ATTACH;FMTTYPE=image/png:/wp-content/uploads/2025/04/Fresh-Food-Project-website-image.png
END:VEVENT
END:VCALENDAR