BEGIN:VCALENDAR
VERSION:2.0
PRODID:-//SANQC - ECPv4.9.14//NONSGML v1.0//EN
CALSCALE:GREGORIAN
METHOD:PUBLISH
X-WR-CALNAME:SANQC
X-ORIGINAL-URL:https://www.sanqc.ca
X-WR-CALDESC:Events for SANQC
BEGIN:VTIMEZONE
TZID:America/Edmonton
BEGIN:DAYLIGHT
TZOFFSETFROM:-0700
TZOFFSETTO:-0600
TZNAME:MDT
DTSTART:20180311T090000
END:DAYLIGHT
BEGIN:STANDARD
TZOFFSETFROM:-0600
TZOFFSETTO:-0700
TZNAME:MST
DTSTART:20181104T080000
END:STANDARD
END:VTIMEZONE
BEGIN:VEVENT
DTSTART;TZID=America/Edmonton:20181204T110000
DTEND;TZID=America/Edmonton:20181204T130000
DTSTAMP:20260423T224609
CREATED:20181203T180500Z
LAST-MODIFIED:20181203T180500Z
UID:3337-1543921200-1543928400@www.sanqc.ca
SUMMARY:Stress\, Education and Wellbeing
DESCRIPTION:Join the Centre for Growth & Harmony for this presentation by the Canadian Mental Health Association about identifying and managing stressors\, discovering strategies for self-care\, and learning about valuable resources that are available to you. \nThe first session is from 11 am – 12 pm with the second session running from 12 – 1 pm. \n
URL:https://www.sanqc.ca/event/stress-education-and-wellbeing/
LOCATION:SANQC Multi-Purpose Space (1-096)\, 10215 108 St NW\, Edmonton\, Alberta\, T5J 1L6\, Canada
CATEGORIES:Mental Health Events,NorQuest Event
END:VEVENT
END:VCALENDAR