BEGIN:VCALENDAR
VERSION:2.0
PRODID:-//SANQC - ECPv4.9.14//NONSGML v1.0//EN
CALSCALE:GREGORIAN
METHOD:PUBLISH
X-WR-CALNAME:SANQC
X-ORIGINAL-URL:https://www.sanqc.ca
X-WR-CALDESC:Events for SANQC
BEGIN:VTIMEZONE
TZID:America/Edmonton
BEGIN:DAYLIGHT
TZOFFSETFROM:-0700
TZOFFSETTO:-0600
TZNAME:MDT
DTSTART:20200308T090000
END:DAYLIGHT
BEGIN:STANDARD
TZOFFSETFROM:-0600
TZOFFSETTO:-0700
TZNAME:MST
DTSTART:20201101T080000
END:STANDARD
END:VTIMEZONE
BEGIN:VEVENT
DTSTART;TZID=America/Edmonton:20200204T103000
DTEND;TZID=America/Edmonton:20200204T143000
DTSTAMP:20260424T062201
CREATED:20200129T185914Z
LAST-MODIFIED:20200130T202251Z
UID:4713-1580812200-1580826600@www.sanqc.ca
SUMMARY:Stress Free Zone • Massages
DESCRIPTION:It’s FREE massage time again! Bring your student ID to get a free massage\, enjoy some relaxing mandalas\, snacks and more! \n
URL:https://www.sanqc.ca/event/stress-free-zone-%e2%80%a2-massages-9/
LOCATION:SANQC Multi-Purpose Space (1-096)\, 10215 108 St NW\, Edmonton\, Alberta\, T5J 1L6\, Canada
CATEGORIES:Mental Health Events,Social Events
ATTACH;FMTTYPE=image/jpeg:/wp-content/uploads/2020/01/SFZM.jpg
END:VEVENT
END:VCALENDAR