BEGIN:VCALENDAR
VERSION:2.0
PRODID:-//SANQC - ECPv4.9.14//NONSGML v1.0//EN
CALSCALE:GREGORIAN
METHOD:PUBLISH
X-WR-CALNAME:SANQC
X-ORIGINAL-URL:https://www.sanqc.ca
X-WR-CALDESC:Events for SANQC
BEGIN:VTIMEZONE
TZID:America/Edmonton
BEGIN:DAYLIGHT
TZOFFSETFROM:-0700
TZOFFSETTO:-0600
TZNAME:MDT
DTSTART:20180311T090000
END:DAYLIGHT
BEGIN:STANDARD
TZOFFSETFROM:-0600
TZOFFSETTO:-0700
TZNAME:MST
DTSTART:20181104T080000
END:STANDARD
END:VTIMEZONE
BEGIN:VEVENT
DTSTART;TZID=America/Edmonton:20181003T100000
DTEND;TZID=America/Edmonton:20181003T150000
DTSTAMP:20260424T005704
CREATED:20180926T153145Z
LAST-MODIFIED:20180927T164708Z
UID:2848-1538560800-1538578800@www.sanqc.ca
SUMMARY:Stress Free Zone • Massages
DESCRIPTION:Need a break? Join us in the Multi-Purpose Space (1-096) from 10 am to 3 pm for FREE massages for students\, relaxing mandalas\, snacks and more. \n
URL:https://www.sanqc.ca/event/stress-free-zone-%e2%80%a2-massages/
LOCATION:SANQC Multi-Purpose Space (1-096)\, 10215 108 St NW\, Edmonton\, Alberta\, T5J 1L6\, Canada
CATEGORIES:Mental Health Events
ATTACH;FMTTYPE=image/jpeg:/wp-content/uploads/2018/09/IMG_5532.jpg
END:VEVENT
END:VCALENDAR