BEGIN:VCALENDAR
VERSION:2.0
PRODID:-//SANQC - ECPv4.9.14//NONSGML v1.0//EN
CALSCALE:GREGORIAN
METHOD:PUBLISH
X-WR-CALNAME:SANQC
X-ORIGINAL-URL:https://www.sanqc.ca
X-WR-CALDESC:Events for SANQC
BEGIN:VTIMEZONE
TZID:America/Edmonton
BEGIN:DAYLIGHT
TZOFFSETFROM:-0700
TZOFFSETTO:-0600
TZNAME:MDT
DTSTART:20170312T090000
END:DAYLIGHT
BEGIN:STANDARD
TZOFFSETFROM:-0600
TZOFFSETTO:-0700
TZNAME:MST
DTSTART:20171105T080000
END:STANDARD
END:VTIMEZONE
BEGIN:VEVENT
DTSTART;TZID=America/Edmonton:20171205T100000
DTEND;TZID=America/Edmonton:20171205T150000
DTSTAMP:20260423T225544
CREATED:20171130T154738Z
LAST-MODIFIED:20171130T154738Z
UID:1354-1512468000-1512486000@www.sanqc.ca
SUMMARY:Stress Free Zone: Day Two
DESCRIPTION:Join SANQC for day two of our four day Stress Free Zone! \nKicking off this event\, we’re having a cozy cartoon day for you to enjoy! There will also be a relaxing mandalas\, coffee\, tea\, fruit and cereal. Don’t forget to enter to win a great prize basket! \n
URL:https://www.sanqc.ca/event/stress-free-zone-day-two/
LOCATION:SANQC Multi-Purpose Space (1-096)\, 10215 108 St NW\, Edmonton\, Alberta\, T5J 1L6\, Canada
CATEGORIES:Mental Health Events,Social Events
END:VEVENT
END:VCALENDAR