BEGIN:VCALENDAR
VERSION:2.0
PRODID:-//SANQC - ECPv4.9.14//NONSGML v1.0//EN
CALSCALE:GREGORIAN
METHOD:PUBLISH
X-WR-CALNAME:SANQC
X-ORIGINAL-URL:https://www.sanqc.ca
X-WR-CALDESC:Events for SANQC
BEGIN:VTIMEZONE
TZID:America/Edmonton
BEGIN:DAYLIGHT
TZOFFSETFROM:-0700
TZOFFSETTO:-0600
TZNAME:MDT
DTSTART:20190310T090000
END:DAYLIGHT
BEGIN:STANDARD
TZOFFSETFROM:-0600
TZOFFSETTO:-0700
TZNAME:MST
DTSTART:20191103T080000
END:STANDARD
END:VTIMEZONE
BEGIN:VEVENT
DTSTART;TZID=America/Edmonton:20190114T110000
DTEND;TZID=America/Edmonton:20190114T140000
DTSTAMP:20260424T003038
CREATED:20181218T211811Z
LAST-MODIFIED:20190104T181618Z
UID:3366-1547463600-1547474400@www.sanqc.ca
SUMMARY:Students' Council Meet & Greet
DESCRIPTION:Stop by and get to know some of your Students’ Council members during this meet & greet event. They’re there to answer your questions\, let you know more about what they do\, how they represent you and how you can get involved. \nIf you don’t have a question ready\, we’ll have some on our spin wheel for you to ask! \n
URL:https://www.sanqc.ca/event/students-council-meet-greet-2/
LOCATION:Atrium (1-001)\, 10215 108 St NW\, Edmonton\, Alberta\, T5J 1L6\, Canada
CATEGORIES:Advocacy Event,Social Events
ATTACH;FMTTYPE=image/jpeg:/wp-content/uploads/2018/12/IMG_9214.jpg
END:VEVENT
END:VCALENDAR