BEGIN:VCALENDAR
VERSION:2.0
PRODID:-//SANQC - ECPv4.9.14//NONSGML v1.0//EN
CALSCALE:GREGORIAN
METHOD:PUBLISH
X-WR-CALNAME:SANQC
X-ORIGINAL-URL:https://www.sanqc.ca
X-WR-CALDESC:Events for SANQC
BEGIN:VTIMEZONE
TZID:America/Edmonton
BEGIN:DAYLIGHT
TZOFFSETFROM:-0700
TZOFFSETTO:-0600
TZNAME:MDT
DTSTART:20180311T090000
END:DAYLIGHT
BEGIN:STANDARD
TZOFFSETFROM:-0600
TZOFFSETTO:-0700
TZNAME:MST
DTSTART:20181104T080000
END:STANDARD
END:VTIMEZONE
BEGIN:VEVENT
DTSTART;TZID=America/Edmonton:20180911T130000
DTEND;TZID=America/Edmonton:20180911T143000
DTSTAMP:20260424T001607
CREATED:20180828T155713Z
LAST-MODIFIED:20180828T155713Z
UID:2573-1536670800-1536676200@www.sanqc.ca
SUMMARY:Students' Council Meet & Greet
DESCRIPTION:Join the current Students’ Council for a unique meet & greet opportunity. Stop in for a snack\, enter our draw and hop into our ball pit of fun! \nLearn about what Students’ Council does and find out how you can get involved. \nIf you are thinking about running for Students’ Council\, this is a great time to ask questions and find out more. \n
URL:https://www.sanqc.ca/event/students-council-meet-greet/
LOCATION:SANQC Multi-Purpose Space (1-096)\, 10215 108 St NW\, Edmonton\, Alberta\, T5J 1L6\, Canada
CATEGORIES:Social Events
ATTACH;FMTTYPE=image/jpeg:/wp-content/uploads/2018/08/IMG_5250.jpg
END:VEVENT
END:VCALENDAR