BEGIN:VCALENDAR
VERSION:2.0
PRODID:-//SANQC - ECPv4.9.14//NONSGML v1.0//EN
CALSCALE:GREGORIAN
METHOD:PUBLISH
X-WR-CALNAME:SANQC
X-ORIGINAL-URL:https://www.sanqc.ca
X-WR-CALDESC:Events for SANQC
BEGIN:VTIMEZONE
TZID:America/Edmonton
BEGIN:DAYLIGHT
TZOFFSETFROM:-0700
TZOFFSETTO:-0600
TZNAME:MDT
DTSTART:20240310T090000
END:DAYLIGHT
BEGIN:STANDARD
TZOFFSETFROM:-0600
TZOFFSETTO:-0700
TZNAME:MST
DTSTART:20241103T080000
END:STANDARD
END:VTIMEZONE
BEGIN:VEVENT
DTSTART;TZID=America/Edmonton:20240425T160000
DTEND;TZID=America/Edmonton:20240425T180000
DTSTAMP:20260423T195539
CREATED:20240424T210859Z
LAST-MODIFIED:20240424T212847Z
UID:9107-1714060800-1714068000@www.sanqc.ca
SUMMARY:Social Work Year-End Event
DESCRIPTION:Join the Social Work Circle (SWC) student club for this perfect opportunity to connect with fellow students and faculty members\, share experiences\, and celebrate all your hard work throughout the year. \nWhether you’re looking to expand your professional network or simply unwind after a busy semester\, this event has something for everyone. Enjoy pizza\, snacks\, and light refreshments with chances to win exciting prizes. \n  \n
URL:https://www.sanqc.ca/event/swcyearend/
LOCATION:3-086\, SCFL\, 10215 108 Street NW\, Edmonton\, Alberta\, t5J 1L6\, Canada
CATEGORIES:Student Club Event
ATTACH;FMTTYPE=image/png:/wp-content/uploads/2024/04/SWC-Year-End-Graphic-2-white-logo-1-e1713994113356.png
ORGANIZER;CN="Social%20Work%20Circle%20%28SWC%29":MAILTO:socialworkcirclenorquest@gmail.com
END:VEVENT
END:VCALENDAR