BEGIN:VCALENDAR
VERSION:2.0
PRODID:-//SANQC - ECPv4.9.14//NONSGML v1.0//EN
CALSCALE:GREGORIAN
METHOD:PUBLISH
X-WR-CALNAME:SANQC
X-ORIGINAL-URL:https://www.sanqc.ca
X-WR-CALDESC:Events for SANQC
BEGIN:VTIMEZONE
TZID:America/Edmonton
BEGIN:DAYLIGHT
TZOFFSETFROM:-0700
TZOFFSETTO:-0600
TZNAME:MDT
DTSTART:20210314T090000
END:DAYLIGHT
BEGIN:STANDARD
TZOFFSETFROM:-0600
TZOFFSETTO:-0700
TZNAME:MST
DTSTART:20211107T080000
END:STANDARD
END:VTIMEZONE
BEGIN:VEVENT
DTSTART;VALUE=DATE:20211213
DTEND;VALUE=DATE:20211214
DTSTAMP:20260424T070427
CREATED:20211116T173932Z
LAST-MODIFIED:20211116T173932Z
UID:6802-1639353600-1639439999@www.sanqc.ca
SUMMARY:Trivia Time • The Holidays
DESCRIPTION:Did you know that there’s a popular holiday milk punch in Canada called eggnog? Or that people traditionally tops their Christmas trees with an angel? Challenge yourself and your NorQuest friends to see who can get the most correct answers in our holiday! \nCheck out our Facebook & Instagram stories (@norquestsa) on Mon\, Dec 13 to play along. Every question you answer correctly will get you an extra entry for a chance to win one of two $25 gift cards! \n
URL:https://www.sanqc.ca/event/trivia-time-the-holidays/
CATEGORIES:Social Events
ATTACH;FMTTYPE=image/png:/wp-content/uploads/2021/11/Trivia-Time-Dec-13.png
END:VEVENT
END:VCALENDAR